BEGIN:VCALENDAR
VERSION:2.0
PRODID:icalendar-ruby
CALSCALE:GREGORIAN
METHOD:PUBLISH
BEGIN:VEVENT
DTSTAMP:20260421T123634Z
UID:10-592930@beaconbaptist.tithelysetup5.com
DTSTART:20261028T230000Z
DTEND:20261029T003000Z
CLASS:PUBLIC
CREATED:20260421T075923
DESCRIPTION:
LAST-MODIFIED:20260421T075923
LOCATION:
SUMMARY:Wednesday Prayer Service 
URL;VALUE=URI:https://revivalbaptistsc.com/events/wednesday-prayer-service/
 2026-10-28
ATTACH;FILENAME=TtnJ.jpg;FMTTYPE=image/jpeg:https://dq5pwpg1q8ru0.cloudfron
 t.net/2024/05/30/19/06/24/4dc520af-3e93-4101-8800-239d8708a500/TtnJ.jpg
END:VEVENT
END:VCALENDAR
