BEGIN:VCALENDAR
VERSION:2.0
PRODID:icalendar-ruby
CALSCALE:GREGORIAN
METHOD:PUBLISH
BEGIN:VEVENT
DTSTAMP:20260420T045244Z
UID:10-588873@beaconbaptist.tithelysetup5.com
DTSTART:20260701T230000Z
DTEND:20260702T003000Z
CLASS:PUBLIC
CREATED:20260419T233505
DESCRIPTION:
LAST-MODIFIED:20260419T233505
LOCATION:
SUMMARY:Wednesday Prayer Service 
URL;VALUE=URI:https://revivalbaptistsc.com/events/wednesday-prayer-service/
 2026-07-01
ATTACH;FILENAME=TtnJ.jpg;FMTTYPE=image/jpeg:https://dq5pwpg1q8ru0.cloudfron
 t.net/2024/05/30/19/06/24/4dc520af-3e93-4101-8800-239d8708a500/TtnJ.jpg
END:VEVENT
END:VCALENDAR
