BEGIN:VCALENDAR
VERSION:2.0
PRODID:icalendar-ruby
CALSCALE:GREGORIAN
METHOD:PUBLISH
BEGIN:VEVENT
DTSTAMP:20260419T203613Z
UID:10-587858@beaconbaptist.tithelysetup5.com
DTSTART:20260527T230000Z
DTEND:20260528T003000Z
CLASS:PUBLIC
CREATED:20260419T161450
DESCRIPTION:
LAST-MODIFIED:20260419T161450
LOCATION:
SUMMARY:Wednesday Prayer Service 
URL;VALUE=URI:https://revivalbaptistsc.com/events/wednesday-prayer-service/
 2026-05-27
ATTACH;FILENAME=TtnJ.jpg;FMTTYPE=image/jpeg:https://dq5pwpg1q8ru0.cloudfron
 t.net/2024/05/30/19/06/24/4dc520af-3e93-4101-8800-239d8708a500/TtnJ.jpg
END:VEVENT
END:VCALENDAR
