BEGIN:VCALENDAR
VERSION:2.0
PRODID:icalendar-ruby
CALSCALE:GREGORIAN
METHOD:PUBLISH
BEGIN:VEVENT
DTSTAMP:20260424T115917Z
UID:11-601648@beaconbaptist.tithelysetup5.com
DTSTART:20261025T150000Z
DTEND:20261025T163000Z
CLASS:PUBLIC
CREATED:20260423T224613
DESCRIPTION:
LAST-MODIFIED:20260423T224613
LOCATION:
SUMMARY:Sunday Morning Worship
URL;VALUE=URI:https://revivalbaptistsc.com/events/sunday-morning-worship/20
 26-10-25
ATTACH;FILENAME=dbZX.jpg;FMTTYPE=image/jpeg:https://dq5pwpg1q8ru0.cloudfron
 t.net/2024/05/30/19/11/54/9e1a21a7-fb26-4543-a4cc-71857d658841/dbZX.jpg
END:VEVENT
END:VCALENDAR
