BEGIN:VCALENDAR
VERSION:2.0
PRODID:icalendar-ruby
CALSCALE:GREGORIAN
METHOD:PUBLISH
BEGIN:VEVENT
DTSTAMP:20260420T085959Z
UID:11-589501@beaconbaptist.tithelysetup5.com
DTSTART:20260607T150000Z
DTEND:20260607T163000Z
CLASS:PUBLIC
CREATED:20260420T031216
DESCRIPTION:
LAST-MODIFIED:20260420T031216
LOCATION:
SUMMARY:Sunday Morning Worship
URL;VALUE=URI:https://revivalbaptistsc.com/events/sunday-morning-worship/20
 26-06-07
ATTACH;FILENAME=dbZX.jpg;FMTTYPE=image/jpeg:https://dq5pwpg1q8ru0.cloudfron
 t.net/2024/05/30/19/11/54/9e1a21a7-fb26-4543-a4cc-71857d658841/dbZX.jpg
END:VEVENT
END:VCALENDAR
